BEGIN:VCALENDAR
VERSION:2.0
PRODID:-//pretix//ChCh-Ticketshop//
BEGIN:VTIMEZONE
TZID:Europe/Berlin
BEGIN:STANDARD
DTSTART:20001029T040000
RRULE:FREQ=YEARLY;BYDAY=-1SU;BYMONTH=10
TZNAME:CET
TZOFFSETFROM:+0200
TZOFFSETTO:+0100
END:STANDARD
BEGIN:DAYLIGHT
DTSTART:20000326T030000
RRULE:FREQ=YEARLY;BYDAY=-1SU;BYMONTH=3
TZNAME:CEST
TZOFFSETFROM:+0100
TZOFFSETTO:+0200
END:DAYLIGHT
END:VTIMEZONE
BEGIN:VEVENT
UID:pretix-ChCh-EndOf10-24@tickets.chch.it
DTSTART;TZID=Europe/Berlin:20260201T153000
DTEND;TZID=Europe/Berlin:20260201T210500
DESCRIPTION:Tickets: https://tickets.chch.it/ChCh/EndOf10/24/\nEinlass: 01.
 02.2026 15:00\nVeranstalter: Chaostreff Chemnitz e.V.
DTSTAMP:20260425T154432Z
LOCATION:Lokomov\, Augustusburger Str. 102\, 09126 Chemnitz
SUMMARY:EndOf10 Install Party
END:VEVENT
END:VCALENDAR
